BEGIN:VCALENDAR
VERSION:2.0
PRODID:icalendar-ruby
CALSCALE:GREGORIAN
METHOD:PUBLISH
BEGIN:VEVENT
DTSTAMP:20260424T143229Z
UID:7-831877@nowchurchinc.com
DTSTART:20261009T000000Z
DTEND:20261009T010000Z
CLASS:PUBLIC
CREATED:20260424T064841
DESCRIPTION:Join Bible Study
LAST-MODIFIED:20260424T064841
LOCATION:Join Bible Study
SUMMARY:Women's Bible Study
URL;VALUE=URI:https://nowchurchinc.com/events/womens-bible-study/2026-10-08
ATTACH;FILENAME=FK8PY.jpg;FMTTYPE=image/jpeg:https://dq5pwpg1q8ru0.cloudfro
 nt.net/2023/02/20/13/32/27/b98709da-fabc-4b4c-8be1-95d0a6b1e374/FK8PY.jpg
END:VEVENT
END:VCALENDAR
